BEGIN:VCALENDAR
VERSION:2.0
PRODID:-//Contratero//ES
CALSCALE:GREGORIAN
METHOD:PUBLISH
BEGIN:VEVENT
UID:PA 2021/025@contratero.es
DTSTAMP:20260424T135105Z
DTSTART:20210910T235959
DTEND:20210911T005959
SUMMARY:Cierre: Suministro y servicios asociados de integración e 
DESCRIPTION:Suministro y servicios asociados de integración e instalación de un sistema maestro de pacientes con identificación biométrica\, con destino a los hospitales Comarcal de Melilla y Universitario de Ceut...\\n\\nOrganismo: Dirección del Instituto Nacional de Gestión Sanitaria (INGESA)\\n\\nVer en Contratero: https://contratero.es/contracts/PA 2021/025
URL:https://contratero.es/contracts/PA 2021/025
STATUS:CONFIRMED
BEGIN:VALARM
TRIGGER:-P1D
ACTION:DISPLAY
DESCRIPTION:Recordatorio: Suministro y servicios asociad
END:VALARM
END:VEVENT
END:VCALENDAR